Package: easylift Version: 1.0.0 Command: /home/biocbuild/bbs-3.18-bioc/R/bin/R CMD build --keep-empty-dirs --no-resave-data easylift StartedAt: 2024-04-15 16:55:17 -0400 (Mon, 15 Apr 2024) EndedAt: 2024-04-15 16:56:01 -0400 (Mon, 15 Apr 2024) EllapsedTime: 43.7 seconds RetCode: 0 Status: OK PackageFile: easylift_1.0.0.tar.gz PackageFileSize: 673.5 KiB