Package: easylift Version: 1.0.0 Command: /Library/Frameworks/R.framework/Resources/bin/R CMD INSTALL easylift StartedAt: 2024-03-03 15:16:25 -0500 (Sun, 03 Mar 2024) EndedAt: 2024-03-03 15:17:13 -0500 (Sun, 03 Mar 2024) EllapsedTime: 47.9 seconds RetCode: 0 Status: OK