Package: easylift Version: 1.0.0 Command: /Library/Frameworks/R.framework/Resources/bin/R CMD build --keep-empty-dirs --no-resave-data easylift StartedAt: 2024-03-03 16:36:22 -0500 (Sun, 03 Mar 2024) EndedAt: 2024-03-03 16:37:16 -0500 (Sun, 03 Mar 2024) EllapsedTime: 54.1 seconds RetCode: 0 Status: OK PackageFile: easylift_1.0.0.tar.gz PackageFileSize: 673.4 KiB