Package: easyRNASeq Version: 2.38.0 Command: chmod a+r easyRNASeq -R && F:\biocbuild\bbs-3.18-bioc\R\bin\R.exe CMD build --keep-empty-dirs --no-resave-data easyRNASeq StartedAt: 2024-04-15 18:09:47 -0400 (Mon, 15 Apr 2024) EndedAt: 2024-04-15 18:14:34 -0400 (Mon, 15 Apr 2024) EllapsedTime: 286.3 seconds RetCode: 0 Status: OK PackageFile: easyRNASeq_2.38.0.tar.gz PackageFileSize: 69.47 MiB