Package: easyRNASeq Version: 2.38.0 Command: /Library/Frameworks/R.framework/Resources/bin/R CMD build --keep-empty-dirs --no-resave-data easyRNASeq StartedAt: 2024-04-15 18:26:51 -0400 (Mon, 15 Apr 2024) EndedAt: 2024-04-15 18:34:59 -0400 (Mon, 15 Apr 2024) EllapsedTime: 488.0 seconds RetCode: 0 Status: OK PackageFile: easyRNASeq_2.38.0.tar.gz PackageFileSize: 69.55 MiB