Package: easier Version: 1.8.0 Command: /Library/Frameworks/R.framework/Resources/bin/R CMD build --keep-empty-dirs --no-resave-data easier StartedAt: 2024-04-15 18:26:13 -0400 (Mon, 15 Apr 2024) EndedAt: 2024-04-15 18:38:50 -0400 (Mon, 15 Apr 2024) EllapsedTime: 756.9 seconds RetCode: 0 Status: OK PackageFile: easier_1.8.0.tar.gz PackageFileSize: 3.68 MiB