Package: dyebias Version: 1.62.0 Command: /home/biocbuild/bbs-3.18-bioc/R/bin/R CMD check --install=check:dyebias.install-out.txt --library=/home/biocbuild/bbs-3.18-bioc/R/site-library --timings dyebias_1.62.0.tar.gz StartedAt: 2024-04-15 22:21:53 -0400 (Mon, 15 Apr 2024) EndedAt: 2024-04-15 22:22:49 -0400 (Mon, 15 Apr 2024) EllapsedTime: 55.6 seconds RetCode: 0 Status: OK CheckDir: dyebias.Rcheck Warnings: 0