Package: drugTargetInteractions Version: 1.10.1 Command: F:\biocbuild\bbs-3.18-bioc\R\bin\R.exe CMD INSTALL drugTargetInteractions StartedAt: 2024-04-15 16:04:50 -0400 (Mon, 15 Apr 2024) EndedAt: 2024-04-15 16:05:38 -0400 (Mon, 15 Apr 2024) EllapsedTime: 48.3 seconds RetCode: 0 Status: OK