Package: drugTargetInteractions Version: 1.10.1 Command: rm -rf drugTargetInteractions.buildbin-libdir && mkdir drugTargetInteractions.buildbin-libdir && F:\biocbuild\bbs-3.18-bioc\R\bin\R.exe CMD INSTALL --build --library=drugTargetInteractions.buildbin-libdir drugTargetInteractions_1.10.1.tar.gz StartedAt: 2024-04-16 06:56:58 -0400 (Tue, 16 Apr 2024) EndedAt: 2024-04-16 06:57:50 -0400 (Tue, 16 Apr 2024) EllapsedTime: 51.6 seconds RetCode: 0 Status: OK PackageFile: drugTargetInteractions_1.10.1.zip PackageFileSize: 1014 KiB