Package: drugTargetInteractions Version: 1.10.1 Command: /Library/Frameworks/R.framework/Resources/bin/R CMD INSTALL drugTargetInteractions StartedAt: 2024-03-03 15:20:35 -0500 (Sun, 03 Mar 2024) EndedAt: 2024-03-03 15:21:31 -0500 (Sun, 03 Mar 2024) EllapsedTime: 55.9 seconds RetCode: 0 Status: OK