Package: dreamlet Version: 1.0.3 Command: /home/biocbuild/bbs-3.18-bioc/R/bin/R CMD build --keep-empty-dirs --no-resave-data dreamlet StartedAt: 2024-04-15 16:54:00 -0400 (Mon, 15 Apr 2024) EndedAt: 2024-04-15 17:01:16 -0400 (Mon, 15 Apr 2024) EllapsedTime: 435.6 seconds RetCode: 0 Status: OK PackageFile: dreamlet_1.0.3.tar.gz PackageFileSize: 3.993 MiB