Package: dreamlet Version: 1.0.3 Command: /Library/Frameworks/R.framework/Resources/bin/R CMD INSTALL dreamlet StartedAt: 2024-04-15 16:35:59 -0400 (Mon, 15 Apr 2024) EndedAt: 2024-04-15 16:38:33 -0400 (Mon, 15 Apr 2024) EllapsedTime: 154.3 seconds RetCode: 0 Status: OK