Package: dreamlet Version: 1.0.3 Command: /Library/Frameworks/R.framework/Resources/bin/R CMD INSTALL dreamlet StartedAt: 2024-03-03 15:43:13 -0500 (Sun, 03 Mar 2024) EndedAt: 2024-03-03 15:44:47 -0500 (Sun, 03 Mar 2024) EllapsedTime: 94.2 seconds RetCode: 0 Status: OK