Package: dreamlet Version: 1.0.3 Command: /Library/Frameworks/R.framework/Resources/bin/R CMD build --keep-empty-dirs --no-resave-data dreamlet StartedAt: 2024-03-03 16:35:39 -0500 (Sun, 03 Mar 2024) EndedAt: 2024-03-03 16:39:01 -0500 (Sun, 03 Mar 2024) EllapsedTime: 202.0 seconds RetCode: 1 Status: ERROR PackageFile: None PackageFileSize: NA