Package: dreamlet Version: 1.0.0 Command: /home/biocbuild/R/R-4.3.1/bin/R CMD check --install=check:dreamlet.install-out.txt --library=/home/biocbuild/R/R-4.3.1/site-library --timings dreamlet_1.0.0.tar.gz StartedAt: 2023-10-25 10:08:47 -0000 (Wed, 25 Oct 2023) EndedAt: 2023-10-25 10:32:21 -0000 (Wed, 25 Oct 2023) EllapsedTime: 1414.2 seconds RetCode: 0 Status: OK CheckDir: dreamlet.Rcheck Warnings: 0