Package: dpeak Version: 1.14.0 Command: F:\biocbuild\bbs-3.18-bioc\R\bin\R.exe CMD check --no-multiarch --install=check:dpeak.install-out.txt --library=F:\biocbuild\bbs-3.18-bioc\R\library --no-vignettes --timings dpeak_1.14.0.tar.gz StartedAt: 2024-04-16 00:20:23 -0400 (Tue, 16 Apr 2024) EndedAt: 2024-04-16 00:25:39 -0400 (Tue, 16 Apr 2024) EllapsedTime: 316.0 seconds RetCode: 0 Status: OK CheckDir: dpeak.Rcheck Warnings: 0