Package: dpeak Version: 1.14.0 Command: rm -rf dpeak.buildbin-libdir && mkdir dpeak.buildbin-libdir && F:\biocbuild\bbs-3.18-bioc\R\bin\R.exe CMD INSTALL --build --library=dpeak.buildbin-libdir dpeak_1.14.0.tar.gz StartedAt: 2024-04-16 06:56:42 -0400 (Tue, 16 Apr 2024) EndedAt: 2024-04-16 06:58:23 -0400 (Tue, 16 Apr 2024) EllapsedTime: 101.1 seconds RetCode: 0 Status: OK PackageFile: dpeak_1.14.0.zip PackageFileSize: 978.2 KiB