Package: dpeak Version: 1.14.0 Command: /Library/Frameworks/R.framework/Resources/bin/R CMD build --keep-empty-dirs --no-resave-data dpeak StartedAt: 2024-03-03 16:35:26 -0500 (Sun, 03 Mar 2024) EndedAt: 2024-03-03 16:37:19 -0500 (Sun, 03 Mar 2024) EllapsedTime: 112.9 seconds RetCode: 0 Status: OK PackageFile: dpeak_1.14.0.tar.gz PackageFileSize: 417.7 KiB