Package: dpeak Version: 1.14.0 Command: /home/biocbuild/R/R-4.3.1/bin/R CMD build --keep-empty-dirs --no-resave-data dpeak StartedAt: 2023-11-02 00:29:57 -0000 (Thu, 02 Nov 2023) EndedAt: 2023-11-02 00:32:15 -0000 (Thu, 02 Nov 2023) EllapsedTime: 138.2 seconds RetCode: 0 Status: OK PackageFile: dpeak_1.14.0.tar.gz PackageFileSize: 411.3 KiB