Package: doseR Version: 1.18.0 Command: /Library/Frameworks/R.framework/Resources/bin/R CMD build --keep-empty-dirs --no-resave-data doseR StartedAt: 2024-03-03 16:35:16 -0500 (Sun, 03 Mar 2024) EndedAt: 2024-03-03 16:35:59 -0500 (Sun, 03 Mar 2024) EllapsedTime: 43.0 seconds RetCode: 0 Status: OK PackageFile: doseR_1.18.0.tar.gz PackageFileSize: 1.309 MiB