Package: dmrseq Version: 1.22.1 Command: chmod a+r dmrseq -R && F:\biocbuild\bbs-3.18-bioc\R\bin\R.exe CMD build --keep-empty-dirs --no-resave-data dmrseq StartedAt: 2024-04-15 18:05:50 -0400 (Mon, 15 Apr 2024) EndedAt: 2024-04-15 18:24:17 -0400 (Mon, 15 Apr 2024) EllapsedTime: 1106.7 seconds RetCode: 0 Status: OK PackageFile: dmrseq_1.22.1.tar.gz PackageFileSize: 2.668 MiB