Package: dmrseq Version: 1.22.1 Command: /Library/Frameworks/R.framework/Resources/bin/R CMD check --install=check:dmrseq.install-out.txt --library=/Library/Frameworks/R.framework/Resources/library --no-vignettes --timings dmrseq_1.22.1.tar.gz StartedAt: 2024-03-03 20:15:59 -0500 (Sun, 03 Mar 2024) EndedAt: 2024-03-03 20:23:17 -0500 (Sun, 03 Mar 2024) EllapsedTime: 438.1 seconds RetCode: 0 Status: OK CheckDir: dmrseq.Rcheck Warnings: 0