Package: dks Version: 1.48.0 Command: /home/biocbuild/bbs-3.18-bioc/R/bin/R CMD check --install=check:dks.install-out.txt --library=/home/biocbuild/bbs-3.18-bioc/R/site-library --timings dks_1.48.0.tar.gz StartedAt: 2024-04-15 22:13:04 -0400 (Mon, 15 Apr 2024) EndedAt: 2024-04-15 22:13:51 -0400 (Mon, 15 Apr 2024) EllapsedTime: 46.3 seconds RetCode: 0 Status: OK CheckDir: dks.Rcheck Warnings: 0