Package: divergence Version: 1.18.0 Command: /Library/Frameworks/R.framework/Resources/bin/R CMD build --keep-empty-dirs --no-resave-data divergence StartedAt: 2024-03-03 16:33:37 -0500 (Sun, 03 Mar 2024) EndedAt: 2024-03-03 16:34:44 -0500 (Sun, 03 Mar 2024) EllapsedTime: 66.5 seconds RetCode: 0 Status: OK PackageFile: divergence_1.18.0.tar.gz PackageFileSize: 2.072 MiB