Package: discordant Version: 1.26.0 Command: /home/biocbuild/R/R-4.3.1/bin/R CMD INSTALL discordant StartedAt: 2023-11-01 20:09:22 -0000 (Wed, 01 Nov 2023) EndedAt: 2023-11-01 20:09:48 -0000 (Wed, 01 Nov 2023) EllapsedTime: 26.1 seconds RetCode: 0 Status: OK