Package: discordant Version: 1.26.0 Command: /home/biocbuild/R/R-4.3.1/bin/R CMD build --keep-empty-dirs --no-resave-data discordant StartedAt: 2023-11-02 00:23:13 -0000 (Thu, 02 Nov 2023) EndedAt: 2023-11-02 00:23:58 -0000 (Thu, 02 Nov 2023) EllapsedTime: 45.1 seconds RetCode: 0 Status: OK PackageFile: discordant_1.26.0.tar.gz PackageFileSize: 542.8 KiB