Package: dir.expiry Version: 1.10.0 Command: /Library/Frameworks/R.framework/Resources/bin/R CMD build --keep-empty-dirs --no-resave-data dir.expiry StartedAt: 2024-04-15 18:19:02 -0400 (Mon, 15 Apr 2024) EndedAt: 2024-04-15 18:19:12 -0400 (Mon, 15 Apr 2024) EllapsedTime: 10.8 seconds RetCode: 0 Status: OK PackageFile: dir.expiry_1.10.0.tar.gz PackageFileSize: 300.6 KiB