Package: diggit Version: 1.34.0 Command: /home/biocbuild/bbs-3.18-bioc/R/bin/R CMD INSTALL diggit StartedAt: 2024-04-15 15:35:52 -0400 (Mon, 15 Apr 2024) EndedAt: 2024-04-15 15:36:06 -0400 (Mon, 15 Apr 2024) EllapsedTime: 14.1 seconds RetCode: 0 Status: OK