Package: diggit Version: 1.34.0 Command: /Library/Frameworks/R.framework/Resources/bin/R CMD INSTALL diggit StartedAt: 2024-04-15 16:08:24 -0400 (Mon, 15 Apr 2024) EndedAt: 2024-04-15 16:08:55 -0400 (Mon, 15 Apr 2024) EllapsedTime: 31.0 seconds RetCode: 0 Status: OK