Package: diggit Version: 1.34.0 Command: /home/biocbuild/R/R-4.3.1/bin/R CMD build --keep-empty-dirs --no-resave-data diggit StartedAt: 2023-11-02 00:21:47 -0000 (Thu, 02 Nov 2023) EndedAt: 2023-11-02 00:26:07 -0000 (Thu, 02 Nov 2023) EllapsedTime: 259.3 seconds RetCode: 0 Status: OK PackageFile: diggit_1.34.0.tar.gz PackageFileSize: 338.3 KiB