Package: diffUTR Version: 1.10.0 Command: rm -rf diffUTR.buildbin-libdir && mkdir diffUTR.buildbin-libdir && /Users/biocbuild/BBS/utils/build-universal.sh diffUTR_1.10.0.tar.gz /Library/Frameworks/R.framework/Resources/bin/R diffUTR.buildbin-libdir StartedAt: 2024-03-04 00:38:21 -0500 (Mon, 04 Mar 2024) EndedAt: 2024-03-04 00:39:26 -0500 (Mon, 04 Mar 2024) EllapsedTime: 65.0 seconds RetCode: 0 Status: OK PackageFile: diffUTR_1.10.0.tgz PackageFileSize: 1.37 MiB