Package: diffUTR Version: 1.10.0 Command: /home/biocbuild/R/R-4.3.1/bin/R CMD build --keep-empty-dirs --no-resave-data diffUTR StartedAt: 2023-11-02 00:21:36 -0000 (Thu, 02 Nov 2023) EndedAt: 2023-11-02 00:23:13 -0000 (Thu, 02 Nov 2023) EllapsedTime: 97.1 seconds RetCode: 0 Status: OK PackageFile: diffUTR_1.10.0.tar.gz PackageFileSize: 1.368 MiB