Package: diffUTR Version: 1.10.0 Maintainer: Pierre-Luc Germain MaintainerEmail: pierre-luc.germain at hest.ethz.ch git_url: https://git.bioconductor.org/packages/diffUTR git_branch: RELEASE_3_18 git_last_commit: 90e9a90 git_last_commit_date: 2023-10-24 11:33:18 -0400 (Tue, 24 Oct 2023)