Package: diffHic Version: 1.34.0 Command: chmod a+r diffHic -R && F:\biocbuild\bbs-3.18-bioc\R\bin\R.exe CMD build --keep-empty-dirs --no-resave-data diffHic StartedAt: 2024-04-15 18:03:02 -0400 (Mon, 15 Apr 2024) EndedAt: 2024-04-15 18:05:33 -0400 (Mon, 15 Apr 2024) EllapsedTime: 151.2 seconds RetCode: 0 Status: OK PackageFile: diffHic_1.34.0.tar.gz PackageFileSize: 1.44 MiB