Package: diffHic Version: 1.34.0 Command: /Library/Frameworks/R.framework/Resources/bin/R CMD INSTALL diffHic StartedAt: 2024-03-03 15:18:28 -0500 (Sun, 03 Mar 2024) EndedAt: 2024-03-03 15:20:45 -0500 (Sun, 03 Mar 2024) EllapsedTime: 136.7 seconds RetCode: 0 Status: OK