Package: destiny Version: 3.16.0 Command: /Library/Frameworks/R.framework/Resources/bin/R CMD INSTALL destiny StartedAt: 2024-04-15 16:16:01 -0400 (Mon, 15 Apr 2024) EndedAt: 2024-04-15 16:17:58 -0400 (Mon, 15 Apr 2024) EllapsedTime: 117.6 seconds RetCode: 0 Status: OK