Package: destiny Version: 3.16.0 Command: /Library/Frameworks/R.framework/Resources/bin/R CMD build --keep-empty-dirs --no-resave-data destiny StartedAt: 2024-03-03 16:30:35 -0500 (Sun, 03 Mar 2024) EndedAt: 2024-03-03 16:38:18 -0500 (Sun, 03 Mar 2024) EllapsedTime: 462.5 seconds RetCode: 0 Status: OK PackageFile: destiny_3.16.0.tar.gz PackageFileSize: 747.3 KiB