Package: derfinderPlot Version: 1.36.0 Command: /home/biocbuild/R/R-4.3.1/bin/R CMD INSTALL derfinderPlot StartedAt: 2023-11-01 20:40:07 -0000 (Wed, 01 Nov 2023) EndedAt: 2023-11-01 20:41:20 -0000 (Wed, 01 Nov 2023) EllapsedTime: 73.2 seconds RetCode: 0 Status: OK