Package: derfinderPlot Version: 1.36.0 Command: /home/biocbuild/R/R-4.3.1/bin/R CMD build --keep-empty-dirs --no-resave-data derfinderPlot StartedAt: 2023-11-02 00:15:01 -0000 (Thu, 02 Nov 2023) EndedAt: 2023-11-02 00:19:03 -0000 (Thu, 02 Nov 2023) EllapsedTime: 242.3 seconds RetCode: 0 Status: OK PackageFile: derfinderPlot_1.36.0.tar.gz PackageFileSize: 2.314 MiB