Package: derfinderHelper Version: 1.36.0 Command: /home/biocbuild/R/R-4.3.1/bin/R CMD build --keep-empty-dirs --no-resave-data derfinderHelper StartedAt: 2023-11-02 00:14:55 -0000 (Thu, 02 Nov 2023) EndedAt: 2023-11-02 00:15:15 -0000 (Thu, 02 Nov 2023) EllapsedTime: 20.0 seconds RetCode: 0 Status: OK PackageFile: derfinderHelper_1.36.0.tar.gz PackageFileSize: 376.7 KiB