Package: derfinder Version: 1.36.0 Command: F:\biocbuild\bbs-3.18-bioc\R\bin\R.exe CMD INSTALL derfinder StartedAt: 2024-04-15 16:12:56 -0400 (Mon, 15 Apr 2024) EndedAt: 2024-04-15 16:14:00 -0400 (Mon, 15 Apr 2024) EllapsedTime: 64.3 seconds RetCode: 0 Status: OK