Package: derfinder Version: 1.36.0 Command: /Library/Frameworks/R.framework/Resources/bin/R CMD check --install=check:derfinder.install-out.txt --library=/Library/Frameworks/R.framework/Resources/library --no-vignettes --timings derfinder_1.36.0.tar.gz StartedAt: 2024-04-16 01:51:08 -0400 (Tue, 16 Apr 2024) EndedAt: 2024-04-16 02:13:48 -0400 (Tue, 16 Apr 2024) EllapsedTime: 1359.9 seconds RetCode: 0 Status: OK CheckDir: derfinder.Rcheck Warnings: 0