Package: derfinder Version: 1.36.0 Command: /Library/Frameworks/R.framework/Resources/bin/R CMD build --keep-empty-dirs --no-resave-data derfinder StartedAt: 2024-03-03 16:29:48 -0500 (Sun, 03 Mar 2024) EndedAt: 2024-03-03 16:35:52 -0500 (Sun, 03 Mar 2024) EllapsedTime: 364.1 seconds RetCode: 0 Status: OK PackageFile: derfinder_1.36.0.tar.gz PackageFileSize: 1.921 MiB