Package: demuxSNP Version: 1.0.0 Command: F:\biocbuild\bbs-3.18-bioc\R\bin\R.exe CMD INSTALL demuxSNP StartedAt: 2024-04-15 16:06:23 -0400 (Mon, 15 Apr 2024) EndedAt: 2024-04-15 16:07:22 -0400 (Mon, 15 Apr 2024) EllapsedTime: 59.0 seconds RetCode: 0 Status: OK