Package: demuxSNP Version: 1.0.0 Command: /home/biocbuild/bbs-3.18-bioc/R/bin/R CMD build --keep-empty-dirs --no-resave-data demuxSNP StartedAt: 2024-04-15 16:47:25 -0400 (Mon, 15 Apr 2024) EndedAt: 2024-04-15 16:49:34 -0400 (Mon, 15 Apr 2024) EllapsedTime: 129.3 seconds RetCode: 0 Status: OK PackageFile: demuxSNP_1.0.0.tar.gz PackageFileSize: 1.593 MiB