Package: deltaCaptureC Version: 1.16.1 Command: F:\biocbuild\bbs-3.18-bioc\R\bin\R.exe CMD INSTALL deltaCaptureC StartedAt: 2024-04-15 15:56:31 -0400 (Mon, 15 Apr 2024) EndedAt: 2024-04-15 15:57:22 -0400 (Mon, 15 Apr 2024) EllapsedTime: 51.2 seconds RetCode: 0 Status: OK