Package: deltaCaptureC Version: 1.16.1 Command: chmod a+r deltaCaptureC -R && F:\biocbuild\bbs-3.18-bioc\R\bin\R.exe CMD build --keep-empty-dirs --no-resave-data deltaCaptureC StartedAt: 2024-04-15 17:58:12 -0400 (Mon, 15 Apr 2024) EndedAt: 2024-04-15 18:00:51 -0400 (Mon, 15 Apr 2024) EllapsedTime: 158.4 seconds RetCode: 0 Status: OK PackageFile: deltaCaptureC_1.16.1.tar.gz PackageFileSize: 326.7 KiB