Package: deltaCaptureC Version: 1.16.1 Command: rm -rf deltaCaptureC.buildbin-libdir && mkdir deltaCaptureC.buildbin-libdir && F:\biocbuild\bbs-3.18-bioc\R\bin\R.exe CMD INSTALL --build --library=deltaCaptureC.buildbin-libdir deltaCaptureC_1.16.1.tar.gz StartedAt: 2024-04-16 06:54:23 -0400 (Tue, 16 Apr 2024) EndedAt: 2024-04-16 06:55:13 -0400 (Tue, 16 Apr 2024) EllapsedTime: 50.2 seconds RetCode: 0 Status: OK PackageFile: deltaCaptureC_1.16.1.zip PackageFileSize: 615.5 KiB