Package: deltaCaptureC Version: 1.16.1 Command: /home/biocbuild/bbs-3.18-bioc/R/bin/R CMD INSTALL deltaCaptureC StartedAt: 2024-04-15 15:18:12 -0400 (Mon, 15 Apr 2024) EndedAt: 2024-04-15 15:18:43 -0400 (Mon, 15 Apr 2024) EllapsedTime: 31.4 seconds RetCode: 0 Status: OK