Package: deltaCaptureC Version: 1.16.1 Command: /home/biocbuild/bbs-3.18-bioc/R/bin/R CMD check --install=check:deltaCaptureC.install-out.txt --library=/home/biocbuild/bbs-3.18-bioc/R/site-library --timings deltaCaptureC_1.16.1.tar.gz StartedAt: 2024-04-15 22:00:01 -0400 (Mon, 15 Apr 2024) EndedAt: 2024-04-15 22:06:10 -0400 (Mon, 15 Apr 2024) EllapsedTime: 369.2 seconds RetCode: 1 Status: ERROR CheckDir: deltaCaptureC.Rcheck Warnings: NA